BEGIN:VCALENDAR
VERSION:2.0
PRODID:-//The Garland Club of the NANBPWC Inc. - ECPv6.15.14//NONSGML v1.0//EN
CALSCALE:GREGORIAN
METHOD:PUBLISH
X-WR-CALNAME:The Garland Club of the NANBPWC Inc.
X-ORIGINAL-URL:https://garlandnanbpwc.org
X-WR-CALDESC:Events for The Garland Club of the NANBPWC Inc.
REFRESH-INTERVAL;VALUE=DURATION:PT1H
X-Robots-Tag:noindex
X-PUBLISHED-TTL:PT1H
BEGIN:VTIMEZONE
TZID:America/Chicago
BEGIN:DAYLIGHT
TZOFFSETFROM:-0600
TZOFFSETTO:-0500
TZNAME:CDT
DTSTART:20250309T080000
END:DAYLIGHT
BEGIN:STANDARD
TZOFFSETFROM:-0500
TZOFFSETTO:-0600
TZNAME:CST
DTSTART:20251102T070000
END:STANDARD
BEGIN:DAYLIGHT
TZOFFSETFROM:-0600
TZOFFSETTO:-0500
TZNAME:CDT
DTSTART:20260308T080000
END:DAYLIGHT
BEGIN:STANDARD
TZOFFSETFROM:-0500
TZOFFSETTO:-0600
TZNAME:CST
DTSTART:20261101T070000
END:STANDARD
BEGIN:DAYLIGHT
TZOFFSETFROM:-0600
TZOFFSETTO:-0500
TZNAME:CDT
DTSTART:20270314T080000
END:DAYLIGHT
BEGIN:STANDARD
TZOFFSETFROM:-0500
TZOFFSETTO:-0600
TZNAME:CST
DTSTART:20271107T070000
END:STANDARD
END:VTIMEZONE
BEGIN:VEVENT
DTSTART;TZID=America/Chicago:20260402T085000
DTEND;TZID=America/Chicago:20260402T161000
DTSTAMP:20260420T181255
CREATED:20260306T182728Z
LAST-MODIFIED:20260306T185948Z
UID:7324-1775119800-1775146200@garlandnanbpwc.org
SUMMARY:Career Day - Sharing from Professionals & Entrepreneurs
DESCRIPTION:Calling all Professionals & Entrepreneurs to Share Your Knowledge \n4/2/2026   8:50 a.m. –  4:10 p.m. \nAustin Academy for Excellence – Garland\, TX \nFill out our volunteer form here: https://forms.gle/ZG2FRah1X24UvZNa8 \nContact Dr. Shaunise Alford at 214-500-4408 or drshaunisealford@gmail.com
URL:https://garlandnanbpwc.org/event/career-day-sharing-from-professionals-entrepreneurs/
ATTACH;FMTTYPE=application/pdf:https://garlandnanbpwc.org/wp-content/uploads/2026/03/NANBPWC-AAE-Career-Fair-2026-1.pdf
END:VEVENT
BEGIN:VEVENT
DTSTART;TZID=America/Chicago:20260411T110000
DTEND;TZID=America/Chicago:20260411T130000
DTSTAMP:20260420T181255
CREATED:20260306T185253Z
LAST-MODIFIED:20260306T191656Z
UID:7330-1775905200-1775912400@garlandnanbpwc.org
SUMMARY:44th Annual Founders' Day Scholarship & Awards Luncheon
DESCRIPTION:April 11\, 2026     11:00 a. m. \nHyatt Place Hotel \n5101 N. George Bush Hwy \nGarland\, TX \nFor ticket and ad prices go to: https://tinyurl.com/5fkxuwp3 \nFor ticket and ad purchases go to: https://tinyurl.com/hc7hdt5d\nor send payment via Zelle to: garlandbpwclub@gmail.com
URL:https://garlandnanbpwc.org/event/44th-annual-founders-day-scholarship-awards-luncheon/
ATTACH;FMTTYPE=application/pdf:https://garlandnanbpwc.org/wp-content/uploads/2026/03/2026-Founders-Day-Flyer.pdf
END:VEVENT
END:VCALENDAR